BEGIN:VCALENDAR
VERSION:2.0
PRODID:-//Michigan Center For Civic Education - ECPv6.15.13.1//NONSGML v1.0//EN
CALSCALE:GREGORIAN
METHOD:PUBLISH
X-ORIGINAL-URL:https://miciviced.org
X-WR-CALDESC:Events for Michigan Center For Civic Education
REFRESH-INTERVAL;VALUE=DURATION:PT1H
X-Robots-Tag:noindex
X-PUBLISHED-TTL:PT1H
BEGIN:VTIMEZONE
TZID:America/Detroit
BEGIN:DAYLIGHT
TZOFFSETFROM:-0500
TZOFFSETTO:-0400
TZNAME:EDT
DTSTART:20250309T070000
END:DAYLIGHT
BEGIN:STANDARD
TZOFFSETFROM:-0400
TZOFFSETTO:-0500
TZNAME:EST
DTSTART:20251102T060000
END:STANDARD
BEGIN:DAYLIGHT
TZOFFSETFROM:-0500
TZOFFSETTO:-0400
TZNAME:EDT
DTSTART:20260308T070000
END:DAYLIGHT
BEGIN:STANDARD
TZOFFSETFROM:-0400
TZOFFSETTO:-0500
TZNAME:EST
DTSTART:20261101T060000
END:STANDARD
BEGIN:DAYLIGHT
TZOFFSETFROM:-0500
TZOFFSETTO:-0400
TZNAME:EDT
DTSTART:20270314T070000
END:DAYLIGHT
BEGIN:STANDARD
TZOFFSETFROM:-0400
TZOFFSETTO:-0500
TZNAME:EST
DTSTART:20271107T060000
END:STANDARD
END:VTIMEZONE
BEGIN:VEVENT
DTSTART;TZID=America/Detroit:20260119T190000
DTEND;TZID=America/Detroit:20260119T200000
DTSTAMP:20260419T142934
CREATED:20250916T143611Z
LAST-MODIFIED:20250916T143611Z
UID:22561-1768849200-1768852800@miciviced.org
SUMMARY:Mock Trial Coaches Community Roundtable Meetings
DESCRIPTION:⚖️ We are in our #MockTrialEra!  \nJoin us for monthly teacher and coach roundtables. We will provide updates on the Mock Trial season and answer any related questions. \nAll meetings are virtual (Zoom) and will be 7-8pm. \nZOOM LINK: https://us06web.zoom.us/j/81468815183
URL:https://miciviced.org/event/mock-trial-roundtable-jan-19/
LOCATION:Virtual via Zoom\, United States
CATEGORIES:Informational Sessions
ATTACH;FMTTYPE=image/png:https://miciviced.org/wp-content/uploads/2025/09/MT-Round-Table-Agenda-2025-26-1.png
END:VEVENT
END:VCALENDAR