BEGIN:VCALENDAR
VERSION:2.0
PRODID:-//Michigan Center For Civic Education - ECPv6.15.13.1//NONSGML v1.0//EN
CALSCALE:GREGORIAN
METHOD:PUBLISH
X-ORIGINAL-URL:https://miciviced.org
X-WR-CALDESC:Events for Michigan Center For Civic Education
REFRESH-INTERVAL;VALUE=DURATION:PT1H
X-Robots-Tag:noindex
X-PUBLISHED-TTL:PT1H
BEGIN:VTIMEZONE
TZID:America/Detroit
BEGIN:DAYLIGHT
TZOFFSETFROM:-0500
TZOFFSETTO:-0400
TZNAME:EDT
DTSTART:20230312T070000
END:DAYLIGHT
BEGIN:STANDARD
TZOFFSETFROM:-0400
TZOFFSETTO:-0500
TZNAME:EST
DTSTART:20231105T060000
END:STANDARD
BEGIN:DAYLIGHT
TZOFFSETFROM:-0500
TZOFFSETTO:-0400
TZNAME:EDT
DTSTART:20240310T070000
END:DAYLIGHT
BEGIN:STANDARD
TZOFFSETFROM:-0400
TZOFFSETTO:-0500
TZNAME:EST
DTSTART:20241103T060000
END:STANDARD
BEGIN:DAYLIGHT
TZOFFSETFROM:-0500
TZOFFSETTO:-0400
TZNAME:EDT
DTSTART:20250309T070000
END:DAYLIGHT
BEGIN:STANDARD
TZOFFSETFROM:-0400
TZOFFSETTO:-0500
TZNAME:EST
DTSTART:20251102T060000
END:STANDARD
BEGIN:DAYLIGHT
TZOFFSETFROM:-0500
TZOFFSETTO:-0400
TZNAME:EDT
DTSTART:20260308T070000
END:DAYLIGHT
BEGIN:STANDARD
TZOFFSETFROM:-0400
TZOFFSETTO:-0500
TZNAME:EST
DTSTART:20261101T060000
END:STANDARD
END:VTIMEZONE
BEGIN:VEVENT
DTSTART;VALUE=DATE:20250314
DTEND;VALUE=DATE:20250315
DTSTAMP:20260418T124522
CREATED:20240912T020828Z
LAST-MODIFIED:20240912T020828Z
UID:19858-1741910400-1741996799@miciviced.org
SUMMARY:MiCivics Coalition Civic Education Conference
DESCRIPTION:Specializing in civic learning\, the MiCivics Coalition Conference will bring together state and national leaders in civic education. Don’t miss this amazing conference! Join the Coalition and celebrate Civic Learning Week together!
URL:https://miciviced.org/event/micivics-coalition-civic-education-conference/
END:VEVENT
BEGIN:VEVENT
DTSTART;TZID=America/Detroit:20240924T183000
DTEND;TZID=America/Detroit:20240924T193000
DTSTAMP:20260418T124522
CREATED:20240918T184414Z
LAST-MODIFIED:20240918T184655Z
UID:19910-1727202600-1727206200@miciviced.org
SUMMARY:Civics that Empowers All Students - We the People Monthly Office Hours
DESCRIPTION:Calling all CEAS Cohort I and Cohort II Teachers! For the program requirements\, all CEAS II teachers should do all they can to be there (and we understand life happens!)  \nAll Cohort I teachers are also welcome.  \nGoals: Review program and research logistics\, book study\, lessons and content\, plus roundtable planning and reflective conversations.  \nWe cannot wait to reconnect!
URL:https://miciviced.org/event/civics-that-empowers-all-students-we-the-people-monthly-office-hours/
LOCATION:Zoom with possible hybrid options tbd
END:VEVENT
END:VCALENDAR