BEGIN:VCALENDAR
VERSION:2.0
PRODID:-//Michigan Center For Civic Education - ECPv6.15.13.1//NONSGML v1.0//EN
CALSCALE:GREGORIAN
METHOD:PUBLISH
X-ORIGINAL-URL:https://miciviced.org
X-WR-CALDESC:Events for Michigan Center For Civic Education
REFRESH-INTERVAL;VALUE=DURATION:PT1H
X-Robots-Tag:noindex
X-PUBLISHED-TTL:PT1H
BEGIN:VTIMEZONE
TZID:America/Detroit
BEGIN:DAYLIGHT
TZOFFSETFROM:-0500
TZOFFSETTO:-0400
TZNAME:EDT
DTSTART:20230312T070000
END:DAYLIGHT
BEGIN:STANDARD
TZOFFSETFROM:-0400
TZOFFSETTO:-0500
TZNAME:EST
DTSTART:20231105T060000
END:STANDARD
BEGIN:DAYLIGHT
TZOFFSETFROM:-0500
TZOFFSETTO:-0400
TZNAME:EDT
DTSTART:20240310T070000
END:DAYLIGHT
BEGIN:STANDARD
TZOFFSETFROM:-0400
TZOFFSETTO:-0500
TZNAME:EST
DTSTART:20241103T060000
END:STANDARD
BEGIN:DAYLIGHT
TZOFFSETFROM:-0500
TZOFFSETTO:-0400
TZNAME:EDT
DTSTART:20250309T070000
END:DAYLIGHT
BEGIN:STANDARD
TZOFFSETFROM:-0400
TZOFFSETTO:-0500
TZNAME:EST
DTSTART:20251102T060000
END:STANDARD
END:VTIMEZONE
BEGIN:VEVENT
DTSTART;VALUE=DATE:20241101
DTEND;VALUE=DATE:20241102
DTSTAMP:20260422T055839
CREATED:20240912T015112Z
LAST-MODIFIED:20240912T015112Z
UID:19837-1730419200-1730505599@miciviced.org
SUMMARY:Mock Trial Registration Opens!
DESCRIPTION:Schools may begin registering for the 2024-2024 Michigan Mock Trial Season! \nLegal teams\, Courtroom Artists\, and Courtroom Journalists are encouraged to showcase their skills and compete in this year’s season.
URL:https://miciviced.org/event/mock-trial-registration-opens/
END:VEVENT
BEGIN:VEVENT
DTSTART;TZID=America/Detroit:20241112T090000
DTEND;TZID=America/Detroit:20241112T150000
DTSTAMP:20260422T055839
CREATED:20240912T015605Z
LAST-MODIFIED:20240912T015605Z
UID:19845-1731402000-1731423600@miciviced.org
SUMMARY:We the People - Eastern District
DESCRIPTION:The We the People Eastern District is being held at Oakland Schools! \nCome volunteer and advance professional learning to experience one of the best programs in civic education.
URL:https://miciviced.org/event/we-the-people-eastern-district/
END:VEVENT
BEGIN:VEVENT
DTSTART;TZID=America/Detroit:20241115T090000
DTEND;TZID=America/Detroit:20241115T150000
DTSTAMP:20260422T055839
CREATED:20240912T015517Z
LAST-MODIFIED:20240912T015517Z
UID:19843-1731661200-1731682800@miciviced.org
SUMMARY:We the People - Western District
DESCRIPTION:The We the People Western District is being held at the Kent ISD! \nCome volunteer and advance professional learning to experience one of the best programs in civic education.
URL:https://miciviced.org/event/we-the-people-western-district/
END:VEVENT
BEGIN:VEVENT
DTSTART;TZID=America/Detroit:20240924T183000
DTEND;TZID=America/Detroit:20240924T193000
DTSTAMP:20260422T055839
CREATED:20240918T184414Z
LAST-MODIFIED:20240918T184655Z
UID:19910-1727202600-1727206200@miciviced.org
SUMMARY:Civics that Empowers All Students - We the People Monthly Office Hours
DESCRIPTION:Calling all CEAS Cohort I and Cohort II Teachers! For the program requirements\, all CEAS II teachers should do all they can to be there (and we understand life happens!)  \nAll Cohort I teachers are also welcome.  \nGoals: Review program and research logistics\, book study\, lessons and content\, plus roundtable planning and reflective conversations.  \nWe cannot wait to reconnect!
URL:https://miciviced.org/event/civics-that-empowers-all-students-we-the-people-monthly-office-hours/
LOCATION:Zoom with possible hybrid options tbd
END:VEVENT
END:VCALENDAR