BEGIN:VCALENDAR
VERSION:2.0
PRODID:-//Michigan Center For Civic Education - ECPv6.15.13.1//NONSGML v1.0//EN
CALSCALE:GREGORIAN
METHOD:PUBLISH
X-WR-CALNAME:Michigan Center For Civic Education
X-ORIGINAL-URL:https://miciviced.org
X-WR-CALDESC:Events for Michigan Center For Civic Education
REFRESH-INTERVAL;VALUE=DURATION:PT1H
X-Robots-Tag:noindex
X-PUBLISHED-TTL:PT1H
BEGIN:VTIMEZONE
TZID:America/Detroit
BEGIN:DAYLIGHT
TZOFFSETFROM:-0500
TZOFFSETTO:-0400
TZNAME:EDT
DTSTART:20230312T070000
END:DAYLIGHT
BEGIN:STANDARD
TZOFFSETFROM:-0400
TZOFFSETTO:-0500
TZNAME:EST
DTSTART:20231105T060000
END:STANDARD
BEGIN:DAYLIGHT
TZOFFSETFROM:-0500
TZOFFSETTO:-0400
TZNAME:EDT
DTSTART:20240310T070000
END:DAYLIGHT
BEGIN:STANDARD
TZOFFSETFROM:-0400
TZOFFSETTO:-0500
TZNAME:EST
DTSTART:20241103T060000
END:STANDARD
BEGIN:DAYLIGHT
TZOFFSETFROM:-0500
TZOFFSETTO:-0400
TZNAME:EDT
DTSTART:20250309T070000
END:DAYLIGHT
BEGIN:STANDARD
TZOFFSETFROM:-0400
TZOFFSETTO:-0500
TZNAME:EST
DTSTART:20251102T060000
END:STANDARD
END:VTIMEZONE
BEGIN:VEVENT
DTSTART;TZID=America/Detroit:20240911T080000
DTEND;TZID=America/Detroit:20240911T170000
DTSTAMP:20260419T184146
CREATED:20240912T014919Z
LAST-MODIFIED:20240912T014919Z
UID:19835-1726041600-1726074000@miciviced.org
SUMMARY:Student Voting Summit
DESCRIPTION:Join the Secretary of State at Wayne State University to advance the best in youth voting and election education practices. \nVisit with MCCE to learn more about the MiVoice MiVote Toolkit and Civic Ready Classrooms!
URL:https://miciviced.org/event/student-voting-summit/
END:VEVENT
BEGIN:VEVENT
DTSTART;TZID=America/Detroit:20240911T080000
DTEND;TZID=America/Detroit:20240911T170000
DTSTAMP:20260419T184146
CREATED:20240912T015348Z
LAST-MODIFIED:20240912T015348Z
UID:19841-1726041600-1726074000@miciviced.org
SUMMARY:Civic Ready Classrooms\, Mock Trial\, and More in Marquette!
DESCRIPTION:Civic Ready Classrooms and PA 258 \nLearn about MCCE\,  PA 258\, and MiVoice MiVote Toolkit to encourage classrooms rich with civic dialogue and civic learning\, \nAdvance the protocols to make all students and educators more engaged and feel safe to be brave in sharing multiple perspectives. \n 
URL:https://miciviced.org/event/civic-ready-classrooms-mock-trial-and-more-in-marquette/
END:VEVENT
BEGIN:VEVENT
DTSTART;TZID=America/Detroit:20240911T080000
DTEND;TZID=America/Detroit:20240911T170000
DTSTAMP:20260419T184146
CREATED:20240912T020653Z
LAST-MODIFIED:20240912T020653Z
UID:19856-1726041600-1726074000@miciviced.org
SUMMARY:Civic Ready Schools\, Mock Trial\, and More - Marquette
DESCRIPTION:Join MCCE in learning about PA 258\, MiVoice MiVote\, Mock Trial and more! Help advance civic ready schools in the UP!
URL:https://miciviced.org/event/civic-ready-schools-mock-trial-and-more-marquette/
END:VEVENT
BEGIN:VEVENT
DTSTART;TZID=America/Detroit:20240916T170000
DTEND;TZID=America/Detroit:20240916T190000
DTSTAMP:20260419T184146
CREATED:20240912T014732Z
LAST-MODIFIED:20240912T014732Z
UID:19831-1726506000-1726513200@miciviced.org
SUMMARY:MCCE Fall Board of Directors Meeting
DESCRIPTION:Join MCCE as it furthers its mission and vision during its fall Board of Directors Meeting.
URL:https://miciviced.org/event/mcce-fall-board-of-directors-meeting/
END:VEVENT
BEGIN:VEVENT
DTSTART;TZID=America/Detroit:20240918T080000
DTEND;TZID=America/Detroit:20240918T110000
DTSTAMP:20260419T184146
CREATED:20240918T183802Z
LAST-MODIFIED:20240918T183802Z
UID:19908-1726646400-1726657200@miciviced.org
SUMMARY:Civic Ready Classrooms with Utica Community Schools
DESCRIPTION:Civic Ready Classrooms with Utica Community Schools for UCS secondary teachers.
URL:https://miciviced.org/event/civic-ready-classrooms-with-utica-community-schools/
END:VEVENT
BEGIN:VEVENT
DTSTART;TZID=America/Detroit:20240918T080000
DTEND;TZID=America/Detroit:20240918T120000
DTSTAMP:20260419T184146
CREATED:20240912T014815Z
LAST-MODIFIED:20240912T014815Z
UID:19833-1726646400-1726660800@miciviced.org
SUMMARY:Civic Ready Classrooms and PA 258 - UCS
DESCRIPTION:Civic Ready Classrooms and PA 258 \nLearn with the secondary teachers at UCS about PA 258 and encouraging all classrooms to be civic dialogue. \nAdvance the protocols to make all students and educators more engaged and feel safe to be brave in sharing multiple perspectives. \n 
URL:https://miciviced.org/event/civic-ready-classrooms-and-pa-258-ucs/
END:VEVENT
BEGIN:VEVENT
DTSTART;VALUE=DATE:20240920
DTEND;VALUE=DATE:20240921
DTSTAMP:20260419T184146
CREATED:20240912T015232Z
LAST-MODIFIED:20240912T015232Z
UID:19839-1726790400-1726876799@miciviced.org
SUMMARY:Constitution Day with Eastern Upper Peninsula Schools
DESCRIPTION:Join MCCE for a day of civic learning focused on the Constitution\, Voting\, and Civic Dialogue.
URL:https://miciviced.org/event/constitution-day-with-eastern-upper-peninsula-schools/
END:VEVENT
BEGIN:VEVENT
DTSTART;VALUE=DATE:20240920
DTEND;VALUE=DATE:20240921
DTSTAMP:20260419T184146
CREATED:20240912T015935Z
LAST-MODIFIED:20240912T015935Z
UID:19847-1726790400-1726876799@miciviced.org
SUMMARY:Michigan Youth Voting Education Summit
DESCRIPTION:Join in the festivities to celebrate and advance the skills and knowledge needed to equip and empower the next generation of voters at Wayne State University
URL:https://miciviced.org/event/michigan-youth-voting-education-summit/
END:VEVENT
BEGIN:VEVENT
DTSTART;TZID=America/Detroit:20240924T183000
DTEND;TZID=America/Detroit:20240924T193000
DTSTAMP:20260419T184146
CREATED:20240918T184414Z
LAST-MODIFIED:20240918T184655Z
UID:19910-1727202600-1727206200@miciviced.org
SUMMARY:Civics that Empowers All Students - We the People Monthly Office Hours
DESCRIPTION:Calling all CEAS Cohort I and Cohort II Teachers! For the program requirements\, all CEAS II teachers should do all they can to be there (and we understand life happens!)  \nAll Cohort I teachers are also welcome.  \nGoals: Review program and research logistics\, book study\, lessons and content\, plus roundtable planning and reflective conversations.  \nWe cannot wait to reconnect!
URL:https://miciviced.org/event/civics-that-empowers-all-students-we-the-people-monthly-office-hours/
LOCATION:Zoom with possible hybrid options tbd
END:VEVENT
END:VCALENDAR