BEGIN:VCALENDAR
VERSION:2.0
PRODID:-//Michigan Center For Civic Education - ECPv6.15.13.1//NONSGML v1.0//EN
CALSCALE:GREGORIAN
METHOD:PUBLISH
X-ORIGINAL-URL:https://miciviced.org
X-WR-CALDESC:Events for Michigan Center For Civic Education
REFRESH-INTERVAL;VALUE=DURATION:PT1H
X-Robots-Tag:noindex
X-PUBLISHED-TTL:PT1H
BEGIN:VTIMEZONE
TZID:America/Detroit
BEGIN:DAYLIGHT
TZOFFSETFROM:-0500
TZOFFSETTO:-0400
TZNAME:EDT
DTSTART:20230312T070000
END:DAYLIGHT
BEGIN:STANDARD
TZOFFSETFROM:-0400
TZOFFSETTO:-0500
TZNAME:EST
DTSTART:20231105T060000
END:STANDARD
BEGIN:DAYLIGHT
TZOFFSETFROM:-0500
TZOFFSETTO:-0400
TZNAME:EDT
DTSTART:20240310T070000
END:DAYLIGHT
BEGIN:STANDARD
TZOFFSETFROM:-0400
TZOFFSETTO:-0500
TZNAME:EST
DTSTART:20241103T060000
END:STANDARD
BEGIN:DAYLIGHT
TZOFFSETFROM:-0500
TZOFFSETTO:-0400
TZNAME:EDT
DTSTART:20250309T070000
END:DAYLIGHT
BEGIN:STANDARD
TZOFFSETFROM:-0400
TZOFFSETTO:-0500
TZNAME:EST
DTSTART:20251102T060000
END:STANDARD
END:VTIMEZONE
BEGIN:VEVENT
DTSTART;TZID=America/Detroit:20240918T080000
DTEND;TZID=America/Detroit:20240918T110000
DTSTAMP:20260419T214708
CREATED:20240918T183802Z
LAST-MODIFIED:20240918T183802Z
UID:19908-1726646400-1726657200@miciviced.org
SUMMARY:Civic Ready Classrooms with Utica Community Schools
DESCRIPTION:Civic Ready Classrooms with Utica Community Schools for UCS secondary teachers.
URL:https://miciviced.org/event/civic-ready-classrooms-with-utica-community-schools/
END:VEVENT
BEGIN:VEVENT
DTSTART;TZID=America/Detroit:20240918T080000
DTEND;TZID=America/Detroit:20240918T120000
DTSTAMP:20260419T214708
CREATED:20240912T014815Z
LAST-MODIFIED:20240912T014815Z
UID:19833-1726646400-1726660800@miciviced.org
SUMMARY:Civic Ready Classrooms and PA 258 - UCS
DESCRIPTION:Civic Ready Classrooms and PA 258 \nLearn with the secondary teachers at UCS about PA 258 and encouraging all classrooms to be civic dialogue. \nAdvance the protocols to make all students and educators more engaged and feel safe to be brave in sharing multiple perspectives. \n 
URL:https://miciviced.org/event/civic-ready-classrooms-and-pa-258-ucs/
END:VEVENT
END:VCALENDAR