BEGIN:VCALENDAR
VERSION:2.0
PRODID:-//Michigan Center For Civic Education - ECPv6.15.13.1//NONSGML v1.0//EN
CALSCALE:GREGORIAN
METHOD:PUBLISH
X-ORIGINAL-URL:https://miciviced.org
X-WR-CALDESC:Events for Michigan Center For Civic Education
REFRESH-INTERVAL;VALUE=DURATION:PT1H
X-Robots-Tag:noindex
X-PUBLISHED-TTL:PT1H
BEGIN:VTIMEZONE
TZID:America/Detroit
BEGIN:DAYLIGHT
TZOFFSETFROM:-0500
TZOFFSETTO:-0400
TZNAME:EDT
DTSTART:20230312T070000
END:DAYLIGHT
BEGIN:STANDARD
TZOFFSETFROM:-0400
TZOFFSETTO:-0500
TZNAME:EST
DTSTART:20231105T060000
END:STANDARD
BEGIN:DAYLIGHT
TZOFFSETFROM:-0500
TZOFFSETTO:-0400
TZNAME:EDT
DTSTART:20240310T070000
END:DAYLIGHT
BEGIN:STANDARD
TZOFFSETFROM:-0400
TZOFFSETTO:-0500
TZNAME:EST
DTSTART:20241103T060000
END:STANDARD
BEGIN:DAYLIGHT
TZOFFSETFROM:-0500
TZOFFSETTO:-0400
TZNAME:EDT
DTSTART:20250309T070000
END:DAYLIGHT
BEGIN:STANDARD
TZOFFSETFROM:-0400
TZOFFSETTO:-0500
TZNAME:EST
DTSTART:20251102T060000
END:STANDARD
END:VTIMEZONE
BEGIN:VEVENT
DTSTART;TZID=America/Detroit:20240807T120000
DTEND;TZID=America/Detroit:20240809T170000
DTSTAMP:20260414T144558
CREATED:20240912T020109Z
LAST-MODIFIED:20240912T020109Z
UID:19849-1723032000-1723222800@miciviced.org
SUMMARY:MiVoice MiVote - A Civic Education Retreat
DESCRIPTION:Join MCCE in releasing the new MiVoice MiVote Toolkit. Learn about PA 258 and the best in civic education programming!
URL:https://miciviced.org/event/mivoice-mivote-a-civic-education-retreat/
LOCATION:Michigan State University College of Law
END:VEVENT
END:VCALENDAR