BEGIN:VCALENDAR
VERSION:2.0
PRODID:-//Michigan Center For Civic Education - ECPv6.15.13.1//NONSGML v1.0//EN
CALSCALE:GREGORIAN
METHOD:PUBLISH
X-ORIGINAL-URL:https://miciviced.org
X-WR-CALDESC:Events for Michigan Center For Civic Education
REFRESH-INTERVAL;VALUE=DURATION:PT1H
X-Robots-Tag:noindex
X-PUBLISHED-TTL:PT1H
BEGIN:VTIMEZONE
TZID:America/Detroit
BEGIN:DAYLIGHT
TZOFFSETFROM:-0500
TZOFFSETTO:-0400
TZNAME:EDT
DTSTART:20230312T070000
END:DAYLIGHT
BEGIN:STANDARD
TZOFFSETFROM:-0400
TZOFFSETTO:-0500
TZNAME:EST
DTSTART:20231105T060000
END:STANDARD
BEGIN:DAYLIGHT
TZOFFSETFROM:-0500
TZOFFSETTO:-0400
TZNAME:EDT
DTSTART:20240310T070000
END:DAYLIGHT
BEGIN:STANDARD
TZOFFSETFROM:-0400
TZOFFSETTO:-0500
TZNAME:EST
DTSTART:20241103T060000
END:STANDARD
BEGIN:DAYLIGHT
TZOFFSETFROM:-0500
TZOFFSETTO:-0400
TZNAME:EDT
DTSTART:20250309T070000
END:DAYLIGHT
BEGIN:STANDARD
TZOFFSETFROM:-0400
TZOFFSETTO:-0500
TZNAME:EST
DTSTART:20251102T060000
END:STANDARD
END:VTIMEZONE
BEGIN:VEVENT
DTSTART;TZID=America/Detroit:20240112T080000
DTEND;TZID=America/Detroit:20240112T160000
DTSTAMP:20260422T185450
CREATED:20240117T173627Z
LAST-MODIFIED:20240117T173627Z
UID:16619-1705046400-1705075200@miciviced.org
SUMMARY:We the People State Showcase!
DESCRIPTION:The Michigan Center for Civic Education presents the 37th annual We the People State Showcase on January 12\, 2024 at the MSU College of Law. \n 
URL:https://miciviced.org/event/we-the-people-state-showcase/
LOCATION:Michigan State University College of Law
END:VEVENT
END:VCALENDAR